BEGIN:VCALENDAR
VERSION:2.0
PRODID:-//Tukios.com/
BEGIN:VEVENT
UID:171b33fb-f012-4222-91b3-6e1d7c0a5e76@www.adamofh.com
DTSTAMP:20260420T230734Z
DTSTART:20260424T140000Z
DTEND:20260424T150000Z
SUMMARY:Visitation
DESCRIPTION:
URL:https://www.adamofh.com/obituaries/elaine-young
LOCATION: 875 Dreisbach Church Road  Lewisburg PA 17837
GEO:40.93156;-76.968847
END:VEVENT
END:VCALENDAR