BEGIN:VCALENDAR
VERSION:2.0
PRODID:-//Tukios.com/
BEGIN:VEVENT
UID:87c5bda8-0f87-4017-bf2f-2ca5d1c78c57@www.adamofh.com
DTSTAMP:20260420T231308Z
DTSTART:20260424T150000Z
DTEND:20260424T160000Z
SUMMARY:Memorial Service
DESCRIPTION:
URL:https://www.adamofh.com/obituaries/elaine-young
LOCATION: 875 Dreisbach Church Road  Lewisburg PA 17837
GEO:40.93156;-76.968847
END:VEVENT
END:VCALENDAR