BEGIN:VCALENDAR
VERSION:2.0
PRODID:-//Tukios.com/
BEGIN:VEVENT
UID:5a95893f-5938-427e-9fe2-4eff354b9f50@www.adamofh.com
DTSTAMP:20260426T005524Z
DTSTART:20260428T180000Z
DTEND:20260428T200000Z
SUMMARY:Visitation
DESCRIPTION:
URL:https://www.adamofh.com/obituaries/jonas-bender
LOCATION:Church of God in Christ Mennonite 1875 Mensch Road  Mifflinburg 
	PA 17844
GEO:40.898024;-77.054857
END:VEVENT
END:VCALENDAR