BEGIN:VCALENDAR
VERSION:2.0
PRODID:-//Tukios.com/
BEGIN:VEVENT
UID:576f53dd-23f1-4a28-b24a-dad32f9664b9@www.adamofh.com
DTSTAMP:20260426T005848Z
DTSTART:20260428T220000Z
DTEND:20260429T000000Z
SUMMARY:Visitation
DESCRIPTION:
URL:https://www.adamofh.com/obituaries/jonas-bender
LOCATION:Church of God in Christ Mennonite 1875 Mensch Road  Mifflinburg 
	PA 17844
GEO:40.898024;-77.054857
END:VEVENT
END:VCALENDAR