BEGIN:VCALENDAR
VERSION:2.0
PRODID:-//Tukios.com/
BEGIN:VEVENT
UID:7170764e-d1c4-4904-bcf8-f0075daefdbf@www.adamofh.com
DTSTAMP:20260426T005356Z
DTSTART:20260429T143000Z
DTEND:20260429T153000Z
SUMMARY:Funeral Service
DESCRIPTION:
URL:https://www.adamofh.com/obituaries/jonas-bender
LOCATION:Church of God in Christ Mennonite 1875 Mensch Road  Mifflinburg 
	PA 17844
GEO:40.898024;-77.054857
END:VEVENT
END:VCALENDAR