BEGIN:VCALENDAR
VERSION:2.0
PRODID:-//Tukios.com/
BEGIN:VEVENT
UID:80bb453e-8e4b-4fae-a7f0-b6ff5cab10cd@www.adamofh.com
DTSTAMP:20260425T175145Z
DTSTART:20260429T180000Z
DTEND:20260429T190000Z
SUMMARY:Visitation
DESCRIPTION:
URL:https://www.adamofh.com/obituaries/maddison-herbster
LOCATION:Paxtonville Church 1281 Paxton Street  Paxtonville PA 17861
GEO:40.7695926;-77.0829061
END:VEVENT
END:VCALENDAR