BEGIN:VCALENDAR
VERSION:2.0
PRODID:-//Tukios.com/
BEGIN:VEVENT
UID:35c828de-c705-4899-877e-839e0cc146f6@www.adamofh.com
DTSTAMP:20260425T175555Z
DTSTART:20260429T190000Z
DTEND:20260429T200000Z
SUMMARY:Memorial Service
DESCRIPTION:
URL:https://www.adamofh.com/obituaries/maddison-herbster
LOCATION:Paxtonville Church 1281 Paxton Street  Paxtonville PA 17861
GEO:40.7695926;-77.0829061
END:VEVENT
END:VCALENDAR